BEGIN:VCALENDAR
VERSION:2.0
PRODID:-//Libertäre Partei - ECPv6.15.20//NONSGML v1.0//EN
CALSCALE:GREGORIAN
METHOD:PUBLISH
X-ORIGINAL-URL:https://libertaere-partei.ch
X-WR-CALDESC:Veranstaltungen für Libertäre Partei
REFRESH-INTERVAL;VALUE=DURATION:PT1H
X-Robots-Tag:noindex
X-PUBLISHED-TTL:PT1H
BEGIN:VTIMEZONE
TZID:Europe/Zurich
BEGIN:DAYLIGHT
TZOFFSETFROM:+0100
TZOFFSETTO:+0200
TZNAME:CEST
DTSTART:20250330T010000
END:DAYLIGHT
BEGIN:STANDARD
TZOFFSETFROM:+0200
TZOFFSETTO:+0100
TZNAME:CET
DTSTART:20251026T010000
END:STANDARD
BEGIN:DAYLIGHT
TZOFFSETFROM:+0100
TZOFFSETTO:+0200
TZNAME:CEST
DTSTART:20260329T010000
END:DAYLIGHT
BEGIN:STANDARD
TZOFFSETFROM:+0200
TZOFFSETTO:+0100
TZNAME:CET
DTSTART:20261025T010000
END:STANDARD
BEGIN:DAYLIGHT
TZOFFSETFROM:+0100
TZOFFSETTO:+0200
TZNAME:CEST
DTSTART:20270328T010000
END:DAYLIGHT
BEGIN:STANDARD
TZOFFSETFROM:+0200
TZOFFSETTO:+0100
TZNAME:CET
DTSTART:20271031T010000
END:STANDARD
END:VTIMEZONE
BEGIN:VEVENT
DTSTART;VALUE=DATE:20260215
DTEND;VALUE=DATE:20260221
DTSTAMP:20260424T200528
CREATED:20260111T141335Z
LAST-MODIFIED:20260111T141335Z
UID:6966-1771113600-1771631999@libertaere-partei.ch
SUMMARY:Anarchapulco 2026
DESCRIPTION:Here we go….\n\n\n\n\n\nA New Era \n\n\n\n\n\n\nTakes Root\n\n\n\n\n\nFebruary 15-20\, 2026 in Puerto Vallarta\n\n\n\n\nWelcome to the dawn of a transformative movement\, a bold step into a fresh chapter for our global community. \nAnarchapulco is an annual freedom-focused conference in Mexico that brings together people interested in self-sovereignty\, decentralized living\, and alternative ways of thriving. \nFor 11 years\, Anarchapulco flourished in Acapulco\, Mexico\, uniting freedom-seekers\, visionaries\, and changemakers from around the world.
URL:https://libertaere-partei.ch/event/anarchapulco-2026/
LOCATION:Acapulco\, Acapulco\, Mexico
CATEGORIES:Konferenz
ATTACH;FMTTYPE=image/png:https://libertaere-partei.ch/wp-content/uploads/2026/01/Screenshot-2026-01-11-15.11.22.png
END:VEVENT
END:VCALENDAR