BEGIN:VCALENDAR
VERSION:2.0
PRODID:-//Libertäre Partei - ECPv6.15.20//NONSGML v1.0//EN
CALSCALE:GREGORIAN
METHOD:PUBLISH
X-ORIGINAL-URL:https://libertaere-partei.ch
X-WR-CALDESC:Veranstaltungen für Libertäre Partei
REFRESH-INTERVAL;VALUE=DURATION:PT1H
X-Robots-Tag:noindex
X-PUBLISHED-TTL:PT1H
BEGIN:VTIMEZONE
TZID:Europe/Zurich
BEGIN:DAYLIGHT
TZOFFSETFROM:+0100
TZOFFSETTO:+0200
TZNAME:CEST
DTSTART:20240331T010000
END:DAYLIGHT
BEGIN:STANDARD
TZOFFSETFROM:+0200
TZOFFSETTO:+0100
TZNAME:CET
DTSTART:20241027T010000
END:STANDARD
BEGIN:DAYLIGHT
TZOFFSETFROM:+0100
TZOFFSETTO:+0200
TZNAME:CEST
DTSTART:20250330T010000
END:DAYLIGHT
BEGIN:STANDARD
TZOFFSETFROM:+0200
TZOFFSETTO:+0100
TZNAME:CET
DTSTART:20251026T010000
END:STANDARD
BEGIN:DAYLIGHT
TZOFFSETFROM:+0100
TZOFFSETTO:+0200
TZNAME:CEST
DTSTART:20260329T010000
END:DAYLIGHT
BEGIN:STANDARD
TZOFFSETFROM:+0200
TZOFFSETTO:+0100
TZNAME:CET
DTSTART:20261025T010000
END:STANDARD
END:VTIMEZONE
BEGIN:VEVENT
DTSTART;TZID=Europe/Zurich:20251025T093000
DTEND;TZID=Europe/Zurich:20251025T171500
DTSTAMP:20260425T050814
CREATED:20250701T215350Z
LAST-MODIFIED:20250701T215429Z
UID:6647-1761384600-1761412500@libertaere-partei.ch
SUMMARY:Kongress Zukunft+Werte
DESCRIPTION:Kongress Zukunft+Werte \nDie gegenwärtige Gesellschaftskrise ist eine Krise der Identität und der fehlenden Orientierung. Respekt und Achtung vor den Mitmenschen\, Ehe und Familie\, Meinungs- und Religionsfreiheit sind nicht mehr selbstverständlich. Insbesondere junge Menschen sehnen sich nach verlässlichen Grundpfeilern\, nach Sinn\, Hoffnung und Vertrauen. Was also macht unsere Gesellschaft zukunftsfähig und lebenswert? \nBeim Kongress «Zukunft+Werte» widmen sich namhafte Referenten diesen Themen und greifen entscheidende Fragen in Staat\, Wirtschaft\, Kirchen\, Gesellschaft und Familie auf. Der Kongress soll Akzente setzen und Ausstrahlungskraft über den Tag hinaus für die Zukunft entwickeln. \nProgramm\n9.30 Uhr Vormittagsprogramm u.a. mit: \nBegrüssung Michael Freiburghaus\, Präsident Zukunft CH\nReferat Peter Hahne «Statt Wokeness und Hetze:\nFreiheit durch Menschenwürde»\nInterview mit M. Hikmat: «Menschenbild im Islam und im Christentum»\nReferat Gabriele Kuby «Lieben oder weinen»\nReferat Sophia Kuby «Lebensschutz und Toleranz» \n12.00 Uhr Mittagspause\n13.30 Uhr Nachmittagsprogramm u.a. mit: \nReferat Roger Köppel «Meine Freiheit\, deine Freiheit»\nInterview mit Chris Brönimann: «Zurück zu den Wurzeln»\nPodium: Gäste mit wertvollen Projekten\, u.a. mit: Jérôme Schwyzer\, Präsident Schweizer Lehrernetzwerk\, Dagmar Müller\, Traumaberaterin und Gründerin von «Walkingintofreedom»\, \nRegula Lehmann\, Leiterin Elterninitiative Sexualerziehung und Fami-\nlienprojekte Zukunft CH\, Sophia Kuby\, Alliance Defending Freedom International \n17.15 Uhr Veranstaltungsende\nModeration: Beatrice Gall\, Geschäftsführerin Zukunft CH \nZeit & Ort\nKongress Zukunft+Werte\nSamstag\, 25. Oktober 2025\, 9.30 bis 17.15 Uhr\nKongresszentrum Parkarena\, Barbara-Reinhart-Strasse 24\, 8404 Winterthur\nKostenlose Parkplätze vorhanden \nTagungsbeitrag\nErwachsene CHF 120.00\nKinder und Teenager 7–19 Jahre CHF 60.00\nKinder 0-6 Jahre kostenfrei\nDer Tagungsbeitrag ist inkl. Verpflegung; Kinderbetreuung (0–6 Jahre) vorhanden. \nAnmeldung\nEine Anmeldung ist obligatorisch. Die Anmeldung erfolgt online über Eventfrog: https://eventfrog.ch/de/p/fuehrungen-vortraege/tagungen-kolloquien/kongress-zukunft-werte-7284885601802806730.html \nBei Komplikationen bezüglich der Anmeldung melden Sie sich bitte bei Zukunft CH unter info@zukunft-ch.ch oder Telefon 052 268 65 00. \nZukunft CH\nZürcherstrasse 123\n8406 Winterthur \nZukunft CH Flyer Kongress Zukunft+Werte 2025
URL:https://libertaere-partei.ch/event/kongresszukunftwerte/
LOCATION:Parkarena Winterthur\, Barbara-Reinhart-Strasse 24\, Winterthur\, ZH\, 8404\, Switzerland
CATEGORIES:Essen,Kongress,Podiumsdiskussion,Vortrag
ATTACH;FMTTYPE=image/png:https://libertaere-partei.ch/wp-content/uploads/2025/07/Screenshot-2025-07-01-23.45.13.png
ORGANIZER;CN="Stiftung Zukunft CH":MAILTO:info@zukunft-ch.ch
END:VEVENT
END:VCALENDAR